BEGIN:VCALENDAR
VERSION:2.0
PRODID:gruene-dudenhofen.de
METHOD:PUBLISH
BEGIN:VTIMEZONE
TZID:Europe/Berlin
X-LIC-LOCATION:Europe/Berlin
BEGIN:DAYLIGHT
TZOFFSETFROM:+0100
TZOFFSETTO:+0200
TZNAME:CEST
DTSTART:19700329T020000
RRULE:FREQ=YEARLY;INTERVAL=1;BYDAY=-1SU;BYMONTH=3
END:DAYLIGHT
BEGIN:STANDARD
TZOFFSETFROM:+0200
TZOFFSETTO:+0100
TZNAME:CET
DTSTART:19701025T030000
RRULE:FREQ=YEARLY;INTERVAL=1;BYDAY=-1SU;BYMONTH=10
END:STANDARD
END:VTIMEZONE
BEGIN:VEVENT
UID:59da2f9803fd3252c56d09451d45c89f@gruene-dudenhofen.de
URL;VALUE=URI:https://gruene-dudenhofen.de/termine/politischer-abend-mit-
 armin-grau-mdb/
LOCATION:Ev. Gemeindezentrum, Schubertstr. 1a, Dudenhofen
SUMMARY:Politischer Abend mit Armin Grau (MdB)
DESCRIPTION;ALTREP="data:text/html,%0A%3Ch2%20class%3D%22wp-block-heading
 %22%3EPolitik%20zum%20Anfassen%3A%20Armin%20Grau%20%28MdB%29%20l%C3%A4dt%
 20zum%20Austauschabend%20in%20Dudenhofen%20ein%3C%2Fh2%3E%0A%0A%0A%0A%3Cp
 %20class%3D%22wp-block-paragraph%22%3EAm%205.%20Dezember%202023%20um%2019
 %20Uhr%20l%C3%A4dt%20Bundestagsabgeordnete%20Armin%20Grau%20%28B%C3%BCndn
 is%2090%2FDie%20Gr%C3%BCnen%29%20aus%20dem%20Rhein-Pfalz-Kreis%20zu%20ein
 em%20politischen%20Abend%20ins%20evangelische%20Gemeindezentrum%20Dudenho
 fen%20ein.%3C%2Fp%3E%0A%0A%0A%0A%3Cp%20class%3D%22wp-block-paragraph%22%3
 EDer%20Abend%20verspricht%20einen%20spannenden%20Austausch%20%C3%BCber%20
 aktuelle%20Themen%20sowohl%20aus%20der%20Bundespolitik%20als%20auch%20der
 %20Kommunalpolitik%2C%20die%20Dudenhofen%20und%20Berlin%20gleicherma%C3%9
 Fen%20betreffen.%20Armin%20Grau%20wird%20als%20erfahrener%20Politiker%20E
 inblicke%20in%20die%20aktuellen%20Entwicklungen%20geben%20und%20steht%20d
 en%20B%C3%BCrgerinnen%20und%20B%C3%BCrgern%20f%C3%BCr%20Gespr%C3%A4che%20
 zur%20Verf%C3%BCgung.%20An%20der%20Gespr%C3%A4chsrunde%20nehmen%20zudem%2
 0die%20beiden%20Sprecher%3Ainnen%20des%20Gr%C3%BCnen%20Ortsverbands%20Dud
 enhofen%20teil%2C%20Christina%20Horix%20und%20Felix%20Goldinger.%20Gemein
 sam%20versprechen%20sie%20einen%20lebendigen%20Dialog%20und%20eine%20offe
 ne%20Diskussion%20zu%20den%20politischen%20Herausforderungen%20unserer%20
 Zeit.%3C%2Fp%3E%0A%0A%0A%0A%3Cp%20class%3D%22wp-block-paragraph%22%3EDie%
 20Veranstaltung%20bietet%20eine%20gute%20Gelegenheit%20f%C3%BCr%20alle%20
 interessierten%20B%C3%BCrgerinnen%20und%20B%C3%BCrger%2C%20sich%20aktiv%2
 0in%20den%20politischen%20Diskurs%20einzubringen%20und%20direkt%20mit%20i
 hrem%20Abgeordneten%20sowie%20den%20%C3%B6rtlichen%20Vertretern%20der%20G
 r%C3%BCnen%20Partei%20ins%20Gespr%C3%A4ch%20zu%20kommen.%3C%2Fp%3E%0A%0A%
 0A%0A%3Cp%20class%3D%22wp-block-paragraph%22%3EWir%20freuen%20uns%20auf%2
 0Ihr%20zahlreiches%20Erscheinen%20und%20eine%20anregende%20politische%20D
 iskussion.%3C%2Fp%3E%0A":Politik zum Anfassen: Armin Grau (MdB) lädt zum
  Austauschabend in Dudenhofen ein\n\nAm 5. Dezember 2023 um 19 Uhr lädt 
 Bundestagsabgeordnete Armin Grau (Bündnis 90/Die Grünen) aus dem Rhein-
 Pfalz-Kreis zu einem politischen Abend ins evangelische Gemeindezentrum D
 udenhofen ein.\n\nDer Abend verspricht einen spannenden Austausch über a
 ktuelle Themen sowohl aus der Bundespolitik als auch der Kommunalpolitik\
 , die Dudenhofen und Berlin gleichermaßen betreffen. Armin Grau wird als
  erfahrener Politiker Einblicke in die aktuellen Entwicklungen geben und 
 steht den Bürgerinnen und Bürgern für Gespräche zur Verfügung. An de
 r Gesprächsrunde nehmen zudem die beiden Sprecher:innen des Grünen Orts
 verbands Dudenhofen teil\, Christina Horix und Felix Goldinger. Gemeinsam
  versprechen sie einen lebendigen Dialog und eine offene Diskussion zu de
 n politischen Herausforderungen unserer Zeit.\n\nDie Veranstaltung bietet
  eine gute Gelegenheit für alle interessierten Bürgerinnen und Bürger\
 , sich aktiv in den politischen Diskurs einzubringen und direkt mit ihrem
  Abgeordneten sowie den örtlichen Vertretern der Grünen Partei ins Gesp
 räch zu kommen.\n\nWir freuen uns auf Ihr zahlreiches Erscheinen und ein
 e anregende politische Diskussion.
CLASS:PUBLIC
DTSTART;TZID=Europe/Berlin:20231205T190000
DTEND;TZID=Europe/Berlin:20231205T200000
DTSTAMP:20260423T210635
END:VEVENT
END:VCALENDAR