BEGIN:VCALENDAR
VERSION:2.0
PRODID:gruene-dudenhofen.de
METHOD:PUBLISH
BEGIN:VTIMEZONE
TZID:Europe/Berlin
X-LIC-LOCATION:Europe/Berlin
BEGIN:DAYLIGHT
TZOFFSETFROM:+0100
TZOFFSETTO:+0200
TZNAME:CEST
DTSTART:19700329T020000
RRULE:FREQ=YEARLY;INTERVAL=1;BYDAY=-1SU;BYMONTH=3
END:DAYLIGHT
BEGIN:STANDARD
TZOFFSETFROM:+0200
TZOFFSETTO:+0100
TZNAME:CET
DTSTART:19701025T030000
RRULE:FREQ=YEARLY;INTERVAL=1;BYDAY=-1SU;BYMONTH=10
END:STANDARD
END:VTIMEZONE
BEGIN:VEVENT
UID:be307651da34d9656c602b830104fd08@gruene-dudenhofen.de
URL;VALUE=URI:https://gruene-dudenhofen.de/termine/gruenes-fest/
LOCATION:Grillhütte Dudenhofen
SUMMARY:Grünes Fest
DESCRIPTION;ALTREP="data:text/html,Wir%20laden%20herzlich%20ein%20zu%20un
 serem%20GR%C3%9CNEN%20FEST.%0D%0A%0D%0AZusammen%20mit%20Mitgliedern%20uns
 eres%20Ortsverband%20und%20allen%2C%20die%20sich%20f%C3%BCr%20gr%C3%BCne%
 20Polizim%20interessieren%20feiern%20wir%20unser%2030j%C3%A4hriges%20Best
 ehen.%0D%0A%0D%0AWeitere%20%3Ca%20href%3D%22https%3A%2F%2Fgruene-dudenhof
 en.de%2Fgruenes-fest%2F%22%3EInfos%20gibt%20es%20hier%21%3C%2Fa%3E%0D%0AH
 ERZLICH%20WILLKMMEN":Wir laden herzlich ein zu unserem GRÜNEN FEST.\n\nZ
 usammen mit Mitgliedern unseres Ortsverband und allen\, die sich für gr
 üne Polizim interessieren feiern wir unser 30jähriges Bestehen.\n\nWeit
 ere Infos gibt es hier!\n\nHERZLICH WILLKMMEN
CLASS:PUBLIC
DTSTART;TZID=Europe/Berlin:20220911T150000
DTEND;TZID=Europe/Berlin:20220911T180000
DTSTAMP:20260423T221201
END:VEVENT
END:VCALENDAR