BEGIN:VCALENDAR
VERSION:2.0
PRODID:gruene-dudenhofen.de
METHOD:PUBLISH
BEGIN:VTIMEZONE
TZID:Europe/Berlin
X-LIC-LOCATION:Europe/Berlin
BEGIN:DAYLIGHT
TZOFFSETFROM:+0100
TZOFFSETTO:+0200
TZNAME:CEST
DTSTART:19700329T020000
RRULE:FREQ=YEARLY;INTERVAL=1;BYDAY=-1SU;BYMONTH=3
END:DAYLIGHT
BEGIN:STANDARD
TZOFFSETFROM:+0200
TZOFFSETTO:+0100
TZNAME:CET
DTSTART:19701025T030000
RRULE:FREQ=YEARLY;INTERVAL=1;BYDAY=-1SU;BYMONTH=10
END:STANDARD
END:VTIMEZONE
BEGIN:VEVENT
UID:a94344b749c0c41c29a74578bbc7278a@gruene-dudenhofen.de
URL;VALUE=URI:https://gruene-dudenhofen.de/termine/gruene-radtour-durch-d
 en-rhein-pfalz-kreis/
LOCATION:
SUMMARY:Grüne Radtour durch den Rhein-Pfalz-Kreis
DESCRIPTION;ALTREP="data:text/html,%3Cdiv%20class%3D%22entry-content%22%3
 E%0D%0A%0D%0ALiebe%20Freundinnen%20und%20Freunde%2C%0D%0A%0D%0Adie%20Tage
 %20werden%20l%C3%A4nger%2C%20das%20sonnige%20Wetter%20l%C3%A4dt%20zum%20V
 erweilen%20in%20der%20Natur%20ein.%20Das%20wollen%20wir%20unbedingt%20nut
 zen%2C%20daher%20veranstalten%C2%A0wir%20am%C2%A0%3Cstrong%3E15.05%3C%2Fs
 trong%3E.%20eine%20Radtour%20durch%20unseren%20sch%C3%B6nen%20Rhein-Pfalz
 -Kreis.%0D%0A%0D%0AUnd%20das%20Beste%20ist%3A%C2%A0Wir%20holen%20euch%20a
 lle%20in%20euren%20jeweiligen%C2%A0Orten%20ab%21%0D%0A%0D%0AAuch%20Famili
 e%2C%20Freund%3Ainnen%20und%20Interessierte%20sind%20ausdr%C3%BCcklich%20
 willkommen%21%0D%0A%0D%0A%3Cimg%20class%3D%22size-medium%20wp-image-415%2
 0alignleft%22%20src%3D%22https%3A%2F%2Fgruene-dudenhofen.de%2Fwp-content%
 2Fuploads%2F2022%2F05%2Fradtour-400x400.jpg%22%20alt%3D%22%22%20width%3D%
 22400%22%20height%3D%22400%22%20%2F%3E%0D%0A%0D%0A%3Ca%20href%3D%22http%3
 A%2F%2Fwww.gruene-rhein-pfalz.de%2Fwp-content%2Fuploads%2F2022%2F05%2FRad
 tour_Route_Haltepunkte.pdf%22%20target%3D%22_blank%22%20rel%3D%22noreferr
 er%20noopener%22%20data-type%3D%22URL%22%20data-id%3D%22http%3A%2F%2Fwww.
 gruene-rhein-pfalz.de%2Fwp-content%2Fuploads%2F2022%2F05%2FRadtour_Route_
 Haltepunkte.pdf%22%3EDie%20Wegstrecke%20mit%20den%20Abfahrtszeiten%20k%C3
 %B6nnt%20ihr%20der%20Pr%C3%A4sentation%20entnehmen.%3C%2Fa%3E%20In%20jede
 m%C2%A0Ort%20wurde%20eine%20Haltestelle%C2%A0ausgew%C3%A4hlt%2C%20welche%
 20gut%20zu%20erreichen%20ist%20und%20eventuell%20ein%20Radwegprojekt%20re
 pr%C3%A4sentiert.%0D%0A%0D%0AGerade%20wir%20GR%C3%9CNE%20setzen%20uns%20v
 or%20Ort%20f%C3%BCr%20attraktiven%20Radverkehr%20ein%20%E2%80%93%20als%20
 Beitrag%20f%C3%BCr%20moderne%20Mobilit%C3%A4t%20und%20f%C3%BCr%20mehr%20K
 limaschutz.%20Zum%20Beispiel%20besch%C3%A4ftigt%20uns%20im%20Kreis%20die%
 20Umsetzung%20der%20linksrheinischen%20Pendlerradroute%20Ludwigshafen-Sch
 ifferstadt%20genauso%20wie%20zahlreiche%20Radverkehrsma%C3%9Fnahmen%20in%
 20den%20Gemeinden.%20Lasst%20uns%20%C3%BCber%20erfolgreiche%20Radverkehrs
 politik%20und%20unsere%20Projekte%20im%20Kreis%20und%20vor%20Ort%20in%20d
 en%20Austausch%20kommen%21%0D%0A%0D%0AOb%20mit%20dem%20Rad%20oder%20nicht
 %3A%C2%A0%3Cstrong%3EZiel%20ist%20der%20Lambsheimer%20Weiher%20gegen%2013
 %3A30%20Uhr%3C%2Fstrong%3E.%20Es%20sind%20auch%20ausreichend%20Parkpl%C3%
 A4tze%20vorhanden%2C%20falls%20ihr%20nicht%20mit%20dem%20Rad%20an%20der%2
 0Tour%20teilnehmen%20k%C3%B6nnt.%0D%0A%0D%0AFalls%20ihr%20euch%20spontan%
 20entschlie%C3%9Ft%20mitzukommen%2C%20freuen%20wir%20uns%20sehr%21%0D%0A%
 0D%0AWir%20alle%20gehen%20mit%20gutem%20Beispiel%20voran%2C%20daher%20bit
 ten%20wir%C2%A0mit%20Blick%20auf%20die%20Sicherheit%20um%20das%20Tragen%2
 0eines%20Fahrradhelms.%0D%0A%0D%0A%3C%2Fdiv%3E":Liebe Freundinnen und Fre
 unde\,\n\ndie Tage werden länger\, das sonnige Wetter lädt zum Verweile
 n in der Natur ein. Das wollen wir unbedingt nutzen\, daher veranstalten
  wir am 15.05. eine Radtour durch unseren schönen Rhein-Pfalz-Kreis.\n
 \nUnd das Beste ist: Wir holen euch alle in euren jeweiligen Orten ab!\
 n\nAuch Familie\, Freund:innen und Interessierte sind ausdrücklich willk
 ommen!\n\nDie Wegstrecke mit den Abfahrtszeiten könnt ihr der Präsentat
 ion entnehmen. In jedem Ort wurde eine Haltestelle ausgewählt\, welche
  gut zu erreichen ist und eventuell ein Radwegprojekt repräsentiert.\n\n
 Gerade wir GRÜNE setzen uns vor Ort für attraktiven Radverkehr ein – 
 als Beitrag für moderne Mobilität und für mehr Klimaschutz. Zum Beispi
 el beschäftigt uns im Kreis die Umsetzung der linksrheinischen Pendlerra
 droute Ludwigshafen-Schifferstadt genauso wie zahlreiche Radverkehrsmaßn
 ahmen in den Gemeinden. Lasst uns über erfolgreiche Radverkehrspolitik u
 nd unsere Projekte im Kreis und vor Ort in den Austausch kommen!\n\nOb mi
 t dem Rad oder nicht: Ziel ist der Lambsheimer Weiher gegen 13:30 Uhr. E
 s sind auch ausreichend Parkplätze vorhanden\, falls ihr nicht mit dem R
 ad an der Tour teilnehmen könnt.\n\nFalls ihr euch spontan entschließt 
 mitzukommen\, freuen wir uns sehr!\n\nWir alle gehen mit gutem Beispiel v
 oran\, daher bitten wir mit Blick auf die Sicherheit um das Tragen eines
  Fahrradhelms.
CLASS:PUBLIC
DTSTART;TZID=Europe/Berlin:20220506T100000
DTEND;TZID=Europe/Berlin:20220506T110000
DTSTAMP:20260425T215304
END:VEVENT
END:VCALENDAR